BEGIN:VCALENDAR
VERSION:2.0
PRODID:-//wp-events-plugin.com//7.2.3.1//EN
TZID:America/Phoenix
X-WR-TIMEZONE:America/Phoenix
BEGIN:VEVENT
UID:17@acu-connect.com
DTSTART;TZID=America/Chicago:20230627T110000
DTEND;TZID=America/Chicago:20230627T120000
DTSTAMP:20230808T022051Z
URL:https://acu-connect.com/events/why-your-competitors-have-failed-at-b2b
 -digital-commerce/
SUMMARY:Why Your Competitors Have Failed at B2B Digital Commerce
DESCRIPTION:Industrial suppliers are no longer novices when it comes to dig
 ital commerce and with that experience comes requests for new development 
 and innovative functionality. The processes that many companies are using 
 to plan their digital initiatives typically lead to regret\; new developme
 nt and innovative functionality create more complicated implementations\, 
 increase project costs\, and extend launch dates. Ultimately\, delaying wh
 en organizations see value in their investment.\n​\nWithout a change\, y
 our business will be outpaced digitally by your competitors. Your market s
 hare will decrease as will your profit margins. ​\n\nJoin Lori McDonald 
 (President/CEO at Brilliance)\, Lance Owide (Director\, Business Groups\, 
 and General Manager B2B at BigCommerce)\, and Jared Hackbart (Director of 
 Sales &amp\; Marketing at Brilliance) for real examples of customers who s
 uccessfully leveraged iterative mindsets for B2B digital commerce implemen
 tations.\n\nRegister today!\n\nDate: June 27\, 2023\n\nTime:  11:00 am CS
 T/12:00 pm EST\n\nREGISTRATION
ATTACH;FMTTYPE=image/jpeg:https://acu-connect.com/wp-content/uploads/2023/
 08/img-acu-event-brilliance-b2b-implementation.jpg
CATEGORIES:Webinar
LOCATION:https://app.session.com/brilliance/Why-Your-Peers-Have-Failed-at-B
 2B-Digital-Commerce?s=1&passcode=897070
END:VEVENT
BEGIN:VTIMEZONE
TZID:America/Chicago
X-LIC-LOCATION:America/Chicago
BEGIN:DAYLIGHT
DTSTART:20230312T030000
TZOFFSETFROM:-0600
TZOFFSETTO:-0500
TZNAME:CDT
END:DAYLIGHT
END:VTIMEZONE
END:VCALENDAR